BEGIN:VCALENDAR
VERSION:2.0
PRODID:-// - ECPv6.15.20//NONSGML v1.0//EN
CALSCALE:GREGORIAN
METHOD:PUBLISH
X-ORIGINAL-URL:https://www.beatsider.com
X-WR-CALDESC:Eventi per 
REFRESH-INTERVAL;VALUE=DURATION:PT1H
X-Robots-Tag:noindex
X-PUBLISHED-TTL:PT1H
BEGIN:VTIMEZONE
TZID:Europe/Rome
BEGIN:DAYLIGHT
TZOFFSETFROM:+0100
TZOFFSETTO:+0200
TZNAME:CEST
DTSTART:20210328T010000
END:DAYLIGHT
BEGIN:STANDARD
TZOFFSETFROM:+0200
TZOFFSETTO:+0100
TZNAME:CET
DTSTART:20211031T010000
END:STANDARD
BEGIN:DAYLIGHT
TZOFFSETFROM:+0100
TZOFFSETTO:+0200
TZNAME:CEST
DTSTART:20220327T010000
END:DAYLIGHT
BEGIN:STANDARD
TZOFFSETFROM:+0200
TZOFFSETTO:+0100
TZNAME:CET
DTSTART:20221030T010000
END:STANDARD
BEGIN:DAYLIGHT
TZOFFSETFROM:+0100
TZOFFSETTO:+0200
TZNAME:CEST
DTSTART:20230326T010000
END:DAYLIGHT
BEGIN:STANDARD
TZOFFSETFROM:+0200
TZOFFSETTO:+0100
TZNAME:CET
DTSTART:20231029T010000
END:STANDARD
END:VTIMEZONE
BEGIN:VEVENT
DTSTART;TZID=Europe/Rome:20221028T220000
DTEND;TZID=Europe/Rome:20221029T020000
DTSTAMP:20260420T071649
CREATED:20220915T033633Z
LAST-MODIFIED:20221005T011642Z
UID:1090-1666994400-1667008800@www.beatsider.com
SUMMARY:BALEARICNOVA WITH EVEREST PARISI
DESCRIPTION:LANGUISHJAZZ SIESTASOUL BEACHFUNK NARRATED BY EVEREST PARISI \n\n\n\nBALEARICNOVA ci porta alla scoperta delle nuove tendenze da spiaggia vip\, narrate con dovizia di particolari da Everest Parisi.
URL:https://www.beatsider.com/evento/balearicnova/
CATEGORIES:Dj set
ATTACH;FMTTYPE=image/jpeg:https://www.beatsider.com/wp-content/uploads/2022/09/BALEARICNOVA-BEATSIDER-ROVERETO.jpg
END:VEVENT
END:VCALENDAR